BEGIN:VCALENDAR
VERSION:2.0
PRODID:-//Contratero//ES
CALSCALE:GREGORIAN
METHOD:PUBLISH
BEGIN:VEVENT
UID:4/2025 Servicios PMC@contratero.es
DTSTAMP:20260425T164139Z
DTSTART:20250711T235959
DTEND:20250712T005959
SUMMARY:Cierre: "Mantenimiento del sistema integral de gestión int
DESCRIPTION:"Mantenimiento del sistema integral de gestión inteligente de servicios turísticos\, 2025"\\n\\nOrganismo: Presidencia del Patronato Municipal de Cultura\\n\\nVer en Contratero: https://contratero.es/contracts/4/2025 Servicios PMC
URL:https://contratero.es/contracts/4/2025 Servicios PMC
STATUS:CONFIRMED
BEGIN:VALARM
TRIGGER:-P1D
ACTION:DISPLAY
DESCRIPTION:Recordatorio: "Mantenimiento del sistema int
END:VALARM
END:VEVENT
END:VCALENDAR